BEGIN:VCALENDAR
VERSION:2.0
PRODID:-//pretix//PKV_Anmeldesystem//
BEGIN:VTIMEZONE
TZID:Europe/Berlin
BEGIN:STANDARD
DTSTART:20001029T040000
RRULE:FREQ=YEARLY;BYDAY=-1SU;BYMONTH=10
TZNAME:CET
TZOFFSETFROM:+0200
TZOFFSETTO:+0100
END:STANDARD
BEGIN:DAYLIGHT
DTSTART:20000326T030000
RRULE:FREQ=YEARLY;BYDAY=-1SU;BYMONTH=3
TZNAME:CEST
TZOFFSETFROM:+0100
TZOFFSETTO:+0200
END:DAYLIGHT
END:VTIMEZONE
BEGIN:VEVENT
UID:pretix-pkv-aerials-weekend-karlsruhe-5-0@anmeldung.kleinkunst-ka.de
DTSTART;TZID=Europe/Berlin:20260501T130000
DTEND;TZID=Europe/Berlin:20260503T193000
DESCRIPTION:Tickets: https://anmeldung.kleinkunst-ka.de/aerials-weekend-kar
 lsruhe-5/\nOrganizer: Pyramidaler Kleinkunst Verein e.V.
DTSTAMP:20260425T130730Z
LOCATION:halle76 - Raum für kreative Bewegung Karlsruhe\, Wolfartsweierer 
 Str. 11\, 76137 Karlsruhe\, Germany
SUMMARY:Aerials Weekend Karlruhe #5
END:VEVENT
END:VCALENDAR
